BEGIN:VCALENDAR
VERSION:2.0
PRODID:-//Ozguin le fascinateur - ECPv6.15.20//NONSGML v1.0//EN
CALSCALE:GREGORIAN
METHOD:PUBLISH
X-ORIGINAL-URL:https://adrienpecqueur.com
X-WR-CALDESC:Évènements pour Ozguin le fascinateur
REFRESH-INTERVAL;VALUE=DURATION:PT1H
X-Robots-Tag:noindex
X-PUBLISHED-TTL:PT1H
BEGIN:VTIMEZONE
TZID:Europe/Paris
BEGIN:DAYLIGHT
TZOFFSETFROM:+0100
TZOFFSETTO:+0200
TZNAME:CEST
DTSTART:20240331T010000
END:DAYLIGHT
BEGIN:STANDARD
TZOFFSETFROM:+0200
TZOFFSETTO:+0100
TZNAME:CET
DTSTART:20241027T010000
END:STANDARD
BEGIN:DAYLIGHT
TZOFFSETFROM:+0100
TZOFFSETTO:+0200
TZNAME:CEST
DTSTART:20250330T010000
END:DAYLIGHT
BEGIN:STANDARD
TZOFFSETFROM:+0200
TZOFFSETTO:+0100
TZNAME:CET
DTSTART:20251026T010000
END:STANDARD
BEGIN:DAYLIGHT
TZOFFSETFROM:+0100
TZOFFSETTO:+0200
TZNAME:CEST
DTSTART:20260329T010000
END:DAYLIGHT
BEGIN:STANDARD
TZOFFSETFROM:+0200
TZOFFSETTO:+0100
TZNAME:CET
DTSTART:20261025T010000
END:STANDARD
END:VTIMEZONE
BEGIN:VEVENT
DTSTART;TZID=Europe/Paris:20251115T143000
DTEND;TZID=Europe/Paris:20251115T170000
DTSTAMP:20260424T102349
CREATED:20250623T132041Z
LAST-MODIFIED:20250623T132041Z
UID:35779-1763217000-1763226000@adrienpecqueur.com
SUMMARY:Animation jeux parents / enfants à la médiathèque de Laleu
DESCRIPTION:
URL:https://adrienpecqueur.com/event/animation-jeux-parents-enfants-a-la-mediatheque-de-laleu-2/
LOCATION:Médiahèque de Laleu\, 10 rue de Montréal\, La Rochelle\, 17000\, France
CATEGORIES:Animation jeux parents / enfants,Ozguin - Le Fascinateur
ATTACH;FMTTYPE=image/jpeg:https://adrienpecqueur.com/wp-content/uploads/2024/04/media-laleu.jpg
END:VEVENT
END:VCALENDAR